BEGIN:VCALENDAR
VERSION:2.0
PRODID:-//Squarespace Inc/Squarespace 6//v6//EN
BEGIN:VEVENT
UID:5d7f1cb03000d646ab9102fc@squarespace.com
DTSTAMP:20190916T052835Z
DTSTART:20190921T200000Z
DTEND:20190922T010000Z
SUMMARY:May Hounds At Clevedon Farmers Market
GEO:-37.005474;175.042441
LOCATION:The Clevedon Village Farmers Market\, 107 Monument Road\, Auckland
 \, Auckland\, 2582\, New Zealand
END:VEVENT
END:VCALENDAR
