BEGIN:VCALENDAR
VERSION:2.0
PRODID:-//Squarespace Inc/Squarespace 6//v6//EN
BEGIN:VEVENT
UID:5d7f1d9492156135f6f65299@squarespace.com
DTSTAMP:20190916T053157Z
DTSTART:20190927T210000Z
DTEND:20190928T050000Z
SUMMARY:Sausage Sizzle Fundraiser
GEO:-36.992672;174.872462
LOCATION:Bunnings\, 55 Lambie Drive\, Auckland\, Auckland\, 2104\, New Zeal
 and
END:VEVENT
END:VCALENDAR
